BEGIN:VCALENDAR
VERSION:2.0
PRODID:-//Kane County Democrats - ECPv6.15.20//NONSGML v1.0//EN
CALSCALE:GREGORIAN
METHOD:PUBLISH
X-WR-CALNAME:Kane County Democrats
X-ORIGINAL-URL:https://www.kanedems.org
X-WR-CALDESC:Events for Kane County Democrats
REFRESH-INTERVAL;VALUE=DURATION:PT1H
X-Robots-Tag:noindex
X-PUBLISHED-TTL:PT1H
BEGIN:VTIMEZONE
TZID:America/Chicago
BEGIN:DAYLIGHT
TZOFFSETFROM:-0600
TZOFFSETTO:-0500
TZNAME:CDT
DTSTART:20250309T080000
END:DAYLIGHT
BEGIN:STANDARD
TZOFFSETFROM:-0500
TZOFFSETTO:-0600
TZNAME:CST
DTSTART:20251102T070000
END:STANDARD
BEGIN:DAYLIGHT
TZOFFSETFROM:-0600
TZOFFSETTO:-0500
TZNAME:CDT
DTSTART:20260308T080000
END:DAYLIGHT
BEGIN:STANDARD
TZOFFSETFROM:-0500
TZOFFSETTO:-0600
TZNAME:CST
DTSTART:20261101T070000
END:STANDARD
BEGIN:DAYLIGHT
TZOFFSETFROM:-0600
TZOFFSETTO:-0500
TZNAME:CDT
DTSTART:20270314T080000
END:DAYLIGHT
BEGIN:STANDARD
TZOFFSETFROM:-0500
TZOFFSETTO:-0600
TZNAME:CST
DTSTART:20271107T070000
END:STANDARD
END:VTIMEZONE
BEGIN:VEVENT
DTSTART;TZID=America/Chicago:20260422T130000
DTEND;TZID=America/Chicago:20260422T150000
DTSTAMP:20260422T132614
CREATED:20241217T225523Z
LAST-MODIFIED:20251028T220538Z
UID:10000087-1776862800-1776870000@www.kanedems.org
SUMMARY:Huntley Area Dems Meeting
DESCRIPTION:The Rutland Township Democrats meet under the moniker “Huntley Area Democrats “ (huntleyareadems.com). \nWe meet on the fourth Wednesday of every month from 1-3pm in the IBEW Union Hall\, 13300 Rt 47\, Huntley\, IL 60142. \nOur 2nd meeting is in Pingree Grove. We meet on the 4th Thursday of the month from 6:30-8:30 pm at the Pingree Grove Municipal Building 555 Reinking Rd.\, Pingree Grove. \nPlease contact the township chair to be added to the mailing list. \nCome to meet like minded people; learn from each other\, plan for upcoming activities. \nAll democrats welcome \nPlease feel free to bring a donation for the Grafton Food Pantry. \nMore information at huntleyareadems.com \nRSVP on Mobilize.us
URL:https://www.kanedems.org/event/huntley-area-dems-meeting/2026-04-22/
LOCATION:IBEW Hall\, 13300 Rt 47\, Huntley\, IL\, 60142\, United States
CATEGORIES:Township Meeting
END:VEVENT
BEGIN:VEVENT
DTSTART;TZID=America/Chicago:20260422T183000
DTEND;TZID=America/Chicago:20260422T203000
DTSTAMP:20260422T132614
CREATED:20260219T012748Z
LAST-MODIFIED:20260219T012748Z
UID:10002542-1776882600-1776889800@www.kanedems.org
SUMMARY:Elgin Dems Monthly Meeting
DESCRIPTION:Regular monthly meeting of the Elgin Township Democrats’ central committee.\n(Third Tuesday of most months) \nPlease note the following exceptions in 2026:\n(some due room availability conflicts when moving of our meeting from the second Wednesday to the third Tuesday) \n\nMarch: planning an election results watch party on 3/17/2026\nApril: meeting will be on 4/22/2026\nSeptember: meeting will be on 9/16/2026\nDecember: holiday party date TBD\n\nHybrid Meeting | In-Person and on Zoom. \nIn-Person meeting will take place at:\nElgin Township Building | Lower Level\n729 S. McLean Blvd\, Elgin\, IL 60123  \n\nDoors Open: 6:30pm\nOfficial Meeting: 7:00pm\nGuest Speakers: 7:30pm\n(Times listed above are estimates)\n\nZoom connection information will be sent out to all PCs prior to the meeting. \nIf you would like to attend the zoom\, please contact Ed Rzeppa at info@ElginDems.org.
URL:https://www.kanedems.org/event/elgin-dems-monthly-meeting/
LOCATION:Elgin Township Building\, 729 S. McLean Blvd\, Elgin\, IL\, 60123\, United States
CATEGORIES:Township Meeting
ATTACH;FMTTYPE=image/jpeg:https://www.kanedems.org/wp-content/uploads/2024/04/etd-event-banner-3.jpg
END:VEVENT
BEGIN:VEVENT
DTSTART;TZID=America/Chicago:20260423T183000
DTEND;TZID=America/Chicago:20260423T203000
DTSTAMP:20260422T132614
CREATED:20250718T151502Z
LAST-MODIFIED:20251028T221046Z
UID:10001263-1776969000-1776976200@www.kanedems.org
SUMMARY:Pingree Grove / Gilberts Democrats Meeting
DESCRIPTION:We meet monthly at the following \nPingree Grove Municipal Building\n555 Reinking Rd\nPingree Grove\, IL 60140 \n4th Thursday of the month \n6:30-8:30 pm \nIf you reside in Pingree Grove or Gilberts we would love to meet you and welcome you to our group. Our goal is to make a difference in PG and Gilberts. We need like minded democrats to accomplish this. \nThe Rutland Township has two meetings per month. Our other meeting is in Huntley\, under the name Huntley Area Dems. We meet on the 4th Wednesday from 1-3pm in the IBEW Union Hall\, 13300 Rt 47\, Huntley \nReach out to us at:  pggdems@gmail.com
URL:https://www.kanedems.org/event/pingree-grove-gilberts-democrats-meeting-2/2026-04-23/
LOCATION:Pingree Grove Municipal Building\, 555 Reinking Rd\, Pingree Grove\, IL\, 60140\, United States
CATEGORIES:Township Meeting
END:VEVENT
BEGIN:VEVENT
DTSTART;TZID=America/Chicago:20260424T170000
DTEND;TZID=America/Chicago:20260424T180000
DTSTAMP:20260422T132614
CREATED:20260422T143807Z
LAST-MODIFIED:20260422T143835Z
UID:10002586-1777050000-1777053600@www.kanedems.org
SUMMARY:Hike Tribe Visibility Brigade
DESCRIPTION:YOU’RE INVITED: Join the HIKE TRIBE to wave signs and flags while 60\,000 cars (and who knows how many passengers) pass our big NO WAR and NO KINGS signs on state highway 25 and Interstate 90. \nIf you have hand posters or flags\, BRING THEM!! \nThere has been an excellent response to our presence and messages in these events. \nVisit their website for more details
URL:https://www.kanedems.org/event/hike-tribe-visibility-brigade/2026-04-24/
CATEGORIES:Protests, Parades & Rallies
ATTACH;FMTTYPE=image/png:https://www.kanedems.org/wp-content/uploads/2026/04/HIKE-VISIBILITY-BRIGADE-LOGO.png
END:VEVENT
BEGIN:VEVENT
DTSTART;TZID=America/Chicago:20260425T100000
DTEND;TZID=America/Chicago:20260425T120000
DTSTAMP:20260422T132614
CREATED:20260422T144357Z
LAST-MODIFIED:20260422T144357Z
UID:10002847-1777111200-1777118400@www.kanedems.org
SUMMARY:Communities Not Cages: National Day of Action to Stop ICE Warehouse Detention
DESCRIPTION:Saturday\, April 25\n10am – 12pm CDT \nNorth State Street & Lawrence Avenue\nElgin\, IL 60123 \nJoin this event as part of a nationwide day of action to oppose the Trump administration’s expansion of ICE warehouse detention and its attack on the due process rights of immigrants and all Americans. \nThe Department of Homeland Security is moving to lock thousands of people in massive detention warehouses — disappearing them from their families\, their lawyers\, and their communities. We’re taking to the streets to make clear that stands for dignity\, justice\, and the rule of law. \nWe’ll gather to: \n\n\n\nShow visible\, public opposition to ICE detention expansion and the criminalization of immigration\nStand in solidarity with detained immigrants and the communities fighting to protect them\nDemand that our elected officials defend due process for everyone\n\n\n\nBring a sign. Bring your neighbors. Bring your voice \nThis action is part of the Communities Not Cages National Day of Action organized by the Disappeared In America campaign and partners including Detention Watch Network\, Indivisible\, Public Citizen\, The Workers Circle\, MoveOn and many others. \nA core principle behind all Disappeared In America events is a commitment to nonviolent action. We expect all participants to seek to de-escalate any potential confrontation with those who disagree with our values and to act lawfully at these events. Weapons of any kind\, including those legally permitted\, should not be brought to events. \nMore Info and RSVP
URL:https://www.kanedems.org/event/communities-not-cages-national-day-of-action-to-stop-ice-warehouse-detention/
CATEGORIES:Protests, Parades & Rallies
ATTACH;FMTTYPE=image/jpeg:https://www.kanedems.org/wp-content/uploads/2026/04/Communities-Not-Cages.jpg
END:VEVENT
BEGIN:VEVENT
DTSTART;TZID=America/Chicago:20260425T160000
DTEND;TZID=America/Chicago:20260425T180000
DTSTAMP:20260422T132614
CREATED:20260420T161902Z
LAST-MODIFIED:20260420T161902Z
UID:10002583-1777132800-1777140000@www.kanedems.org
SUMMARY:Join Us for One Last Slice with Evan!
DESCRIPTION:He’s earned a “Pizza Our Hearts” \nYou wanna pizza him? Too bad\, he’s leaving! \nSlices of Advice and Cash Gifts are greatly appreciated to support Evan’s relocation to Maryland! Donations accepted at Venmo @Kimberly-Tarver-1
URL:https://www.kanedems.org/event/one-last-slice-with-evan/
LOCATION:Kane County Democrats Office\, 473 Dunham Road Suite 102\, Saint Charles\, IL\, 60174\, United States
CATEGORIES:Social Event
ATTACH;FMTTYPE=image/jpeg:https://www.kanedems.org/wp-content/uploads/2026/04/One-Last-Slice-with-Evan.jpg
END:VEVENT
BEGIN:VEVENT
DTSTART;TZID=America/Chicago:20260428T193000
DTEND;TZID=America/Chicago:20260428T203000
DTSTAMP:20260422T132614
CREATED:20241217T225911Z
LAST-MODIFIED:20241219T165949Z
UID:10000029-1777404600-1777408200@www.kanedems.org
SUMMARY:Kane County Democrats Meeting
DESCRIPTION:Join us for our monthly meetings on the fourth Tuesday of each month. We discuss township politics\, election events\, candidates\, as well as committee initiatives. These meetings are open to the public. \n7:30pm-8:30pm \nKane County Government Center\n719 S Batavia Ave. Building A\nGeneva\, IL
URL:https://www.kanedems.org/event/kane-county-democrats-meeting/2026-04-28/
LOCATION:Kane County Government Center\, 719 S Batavia Ave. Building A\, Geneva\, IL
CATEGORIES:General Meeting
ATTACH;FMTTYPE=image/jpeg:https://www.kanedems.org/wp-content/uploads/2024/12/Kane-County-Democrats-event-header.jpg
END:VEVENT
BEGIN:VEVENT
DTSTART;TZID=America/Chicago:20260429T183000
DTEND;TZID=America/Chicago:20260429T200000
DTSTAMP:20260422T132614
CREATED:20250213T220935Z
LAST-MODIFIED:20260129T204409Z
UID:10000838-1777487400-1777492800@www.kanedems.org
SUMMARY:Western Township Dems Meeting
DESCRIPTION:Join the Western Township Democrats for their monthly meeting! The last Wednesday of every month at the Campton Community Center\, 5N082 Old LaFox Road. Wasco\, IL. \nWe encourage attendees to join our conversation with a drink and learn more about our push to elect Democrats in the western townships of Kane County! Any democrats from Big Rock\, Blackberry\, Burlington\, Campton\, Kaneville\, Plato\, Sugar Grove\, or Virgil are welcome! \nTo learn more or join our e-mail list to receive updates\, please email us at WesternKaneDems@gmail.com
URL:https://www.kanedems.org/event/western-township-dems-meeting-2/2026-04-29/
LOCATION:Campton Community Center\, 5N082 Old LaFox Road\, Wasco\, United States
CATEGORIES:Township Meeting
END:VEVENT
END:VCALENDAR