BEGIN:VCALENDAR
VERSION:2.0
PRODID:-//Kane County Democrats - ECPv6.15.20//NONSGML v1.0//EN
CALSCALE:GREGORIAN
METHOD:PUBLISH
X-WR-CALNAME:Kane County Democrats
X-ORIGINAL-URL:https://www.kanedems.org
X-WR-CALDESC:Events for Kane County Democrats
REFRESH-INTERVAL;VALUE=DURATION:PT1H
X-Robots-Tag:noindex
X-PUBLISHED-TTL:PT1H
BEGIN:VTIMEZONE
TZID:America/Chicago
BEGIN:DAYLIGHT
TZOFFSETFROM:-0600
TZOFFSETTO:-0500
TZNAME:CDT
DTSTART:20240310T080000
END:DAYLIGHT
BEGIN:STANDARD
TZOFFSETFROM:-0500
TZOFFSETTO:-0600
TZNAME:CST
DTSTART:20241103T070000
END:STANDARD
BEGIN:DAYLIGHT
TZOFFSETFROM:-0600
TZOFFSETTO:-0500
TZNAME:CDT
DTSTART:20250309T080000
END:DAYLIGHT
BEGIN:STANDARD
TZOFFSETFROM:-0500
TZOFFSETTO:-0600
TZNAME:CST
DTSTART:20251102T070000
END:STANDARD
BEGIN:DAYLIGHT
TZOFFSETFROM:-0600
TZOFFSETTO:-0500
TZNAME:CDT
DTSTART:20260308T080000
END:DAYLIGHT
BEGIN:STANDARD
TZOFFSETFROM:-0500
TZOFFSETTO:-0600
TZNAME:CST
DTSTART:20261101T070000
END:STANDARD
END:VTIMEZONE
BEGIN:VEVENT
DTSTART;TZID=America/Chicago:20250823T100000
DTEND;TZID=America/Chicago:20250823T120000
DTSTAMP:20260423T092838
CREATED:20250815T212027Z
LAST-MODIFIED:20250819T144159Z
UID:10001343-1755943200-1755950400@www.kanedems.org
SUMMARY:Anna Moeller Petition Drive
DESCRIPTION:On to 2026! Let’s Build a Better Future Together! \nPetition Drive for State Representative Anna Moeller\nand to help other Democrats get on the ballot\nLight breakfast and refreshments served \nRSVP at this link or email us at moellerforstaterep@gmail.com \nSaturday\, August 23\, 2025\n11 Douglas Ave.\nSecond Floor\nElgin\, IL 60120
URL:https://www.kanedems.org/event/anna-moeller-petition-drive/2025-08-23/
LOCATION:11 Douglas Ave\, 11 Douglas Ave.\, Elgin\, 60120\, United States
CATEGORIES:Candidate Event,Canvassing, Petitions & Phone Bank
ATTACH;FMTTYPE=image/jpeg:https://www.kanedems.org/wp-content/uploads/2025/08/Anna-Moeller-Petition-Drive-Aug-23-2025-.jpg
END:VEVENT
BEGIN:VEVENT
DTSTART;TZID=America/Chicago:20250823T100000
DTEND;TZID=America/Chicago:20250823T130000
DTSTAMP:20260423T092838
CREATED:20250821T142451Z
LAST-MODIFIED:20250821T142452Z
UID:10001354-1755943200-1755954000@www.kanedems.org
SUMMARY:Junaid Ahmed Schaumburg Area Petition Day of Action
DESCRIPTION:Join Junaid Ahmed\, the Schaumberg Area Democrats\, and our campaign as we gather signatures to get Junaid on the ballot! Bring walking shoes\, your phone\, and 2 friends. We will meet up at the Schaumburg Democrats office at 10AM in Hoffman Estates \nRSVP on Mobilize.us
URL:https://www.kanedems.org/event/junaid-ahmed-schaumburg-area-petition-day-of-action/
LOCATION:Schaumburg Area Democrats Office\, 2500 W Higgins Rd #325\, Hoffman Estates\, 60169\, United States
CATEGORIES:Candidate Event,Canvassing, Petitions & Phone Bank
ATTACH;FMTTYPE=image/jpeg:https://www.kanedems.org/wp-content/uploads/2025/08/Junaid-Ahmed-Day-of-Action.jpg
END:VEVENT
BEGIN:VEVENT
DTSTART;TZID=America/Chicago:20250823T100000
DTEND;TZID=America/Chicago:20250823T140000
DTSTAMP:20260423T092838
CREATED:20250813T205351Z
LAST-MODIFIED:20250813T205351Z
UID:10001337-1755943200-1755957600@www.kanedems.org
SUMMARY:Petition Canvass: Senator Linda Holmes and Representative Matt Hanson
DESCRIPTION:Petition season is officially in full swing! Senator Linda Holmes and Representative Matt Hanson are looking for a few helping hands to get back on the ballot for the 2026 General Election. \nPlease consider joining us and or sharing details below on the upcoming day of action with the members of your organization. \nPetition Canvass: Senator Linda Holmes and Representative Matt Hanson \n\nDate: Saturday\, August 23\, 2025\nTime: 10a-2p\nLocation: Maple Leaf Rosters Coffee House\n1 Illinois St.\, St. Charles\, IL 60174\n\nRSVP/Questions: isabella@ilsenatedems.org
URL:https://www.kanedems.org/event/petition-canvass-senator-linda-holmes-and-representative-matt-hanson/
LOCATION:Maple Leaf Rosters Coffee House\, 1 Illinois St.\, St. Charles\, 60174\, United States
CATEGORIES:Candidate Event,Canvassing, Petitions & Phone Bank
ATTACH;FMTTYPE=image/jpeg:https://www.kanedems.org/wp-content/uploads/2025/08/Hanson-and-Holmes-Petition-Canvass.jpg
END:VEVENT
BEGIN:VEVENT
DTSTART;TZID=America/Chicago:20250828T170000
DTEND;TZID=America/Chicago:20250828T190000
DTSTAMP:20260423T092838
CREATED:20250731T142445Z
LAST-MODIFIED:20250731T143644Z
UID:10001322-1756400400-1756407600@www.kanedems.org
SUMMARY:Penny Wegman for Kane County Treasurer Campaign Kick-Off Fundraiser
DESCRIPTION:Campaign Kick-Off Fundraiser\nSupport Penny Wegman for Kane County Treasurer \nAugust 28\, 2025 | 5:00-7:00 PM \nThe Office\n201 E Main St\nSt Charles\, IL \nTickets: $50\nSponsorships: Silver $250\, Gold $1000\, Platinum $2500 \nBuy Tickets \nContributions payable to:\nFriends of Penny Wegman\n724 Augusta Ave\nElgin IL 60120
URL:https://www.kanedems.org/event/penny-wegman-for-kane-county-treasurer-campaign-kick-off-fundraiser/
LOCATION:The Office\, 201 E Main St\, St. Charles\, United States
CATEGORIES:Candidate Event,Fundraiser
ATTACH;FMTTYPE=image/jpeg:https://www.kanedems.org/wp-content/uploads/2025/07/Penny-Wegman-Treasurer-Campaign-Kick-Off.jpg
END:VEVENT
BEGIN:VEVENT
DTSTART;TZID=America/Chicago:20250830T100000
DTEND;TZID=America/Chicago:20250830T120000
DTSTAMP:20260423T092838
CREATED:20250815T212027Z
LAST-MODIFIED:20250819T144159Z
UID:10001345-1756548000-1756555200@www.kanedems.org
SUMMARY:Anna Moeller Petition Drive
DESCRIPTION:On to 2026! Let’s Build a Better Future Together! \nPetition Drive for State Representative Anna Moeller\nand to help other Democrats get on the ballot\nLight breakfast and refreshments served \nRSVP at this link or email us at moellerforstaterep@gmail.com \nSaturday\, August 23\, 2025\n11 Douglas Ave.\nSecond Floor\nElgin\, IL 60120
URL:https://www.kanedems.org/event/anna-moeller-petition-drive/2025-08-30/
LOCATION:11 Douglas Ave\, 11 Douglas Ave.\, Elgin\, 60120\, United States
CATEGORIES:Candidate Event,Canvassing, Petitions & Phone Bank
ATTACH;FMTTYPE=image/jpeg:https://www.kanedems.org/wp-content/uploads/2025/08/Anna-Moeller-Petition-Drive-Aug-23-2025-.jpg
END:VEVENT
BEGIN:VEVENT
DTSTART;TZID=America/Chicago:20250830T100000
DTEND;TZID=America/Chicago:20250830T130000
DTSTAMP:20260423T092838
CREATED:20250826T010512Z
LAST-MODIFIED:20250826T010512Z
UID:10001356-1756548000-1756558800@www.kanedems.org
SUMMARY:Karina Villa for Illinois State Comptroller Petition Kick-Off Event
DESCRIPTION:
URL:https://www.kanedems.org/event/karina-villa-for-illinois-state-comptroller-petition-kick-off-event/
LOCATION:Teamsters 673\, 1050 W. Roosevelt Road\, West Chicago\, 60185\, United States
CATEGORIES:Candidate Event,Canvassing, Petitions & Phone Bank
ATTACH;FMTTYPE=image/jpeg:https://www.kanedems.org/wp-content/uploads/2025/08/Karina-Villa-kickoff-2026.jpg
END:VEVENT
END:VCALENDAR