BEGIN:VCALENDAR
VERSION:2.0
PRODID:-//Kane County Democrats - ECPv6.15.20//NONSGML v1.0//EN
CALSCALE:GREGORIAN
METHOD:PUBLISH
X-WR-CALNAME:Kane County Democrats
X-ORIGINAL-URL:https://www.kanedems.org
X-WR-CALDESC:Events for Kane County Democrats
REFRESH-INTERVAL;VALUE=DURATION:PT1H
X-Robots-Tag:noindex
X-PUBLISHED-TTL:PT1H
BEGIN:VTIMEZONE
TZID:America/Chicago
BEGIN:DAYLIGHT
TZOFFSETFROM:-0600
TZOFFSETTO:-0500
TZNAME:CDT
DTSTART:20250309T080000
END:DAYLIGHT
BEGIN:STANDARD
TZOFFSETFROM:-0500
TZOFFSETTO:-0600
TZNAME:CST
DTSTART:20251102T070000
END:STANDARD
BEGIN:DAYLIGHT
TZOFFSETFROM:-0600
TZOFFSETTO:-0500
TZNAME:CDT
DTSTART:20260308T080000
END:DAYLIGHT
BEGIN:STANDARD
TZOFFSETFROM:-0500
TZOFFSETTO:-0600
TZNAME:CST
DTSTART:20261101T070000
END:STANDARD
BEGIN:DAYLIGHT
TZOFFSETFROM:-0600
TZOFFSETTO:-0500
TZNAME:CDT
DTSTART:20270314T080000
END:DAYLIGHT
BEGIN:STANDARD
TZOFFSETFROM:-0500
TZOFFSETTO:-0600
TZNAME:CST
DTSTART:20271107T070000
END:STANDARD
END:VTIMEZONE
BEGIN:VEVENT
DTSTART;TZID=America/Chicago:20260423T183000
DTEND;TZID=America/Chicago:20260423T203000
DTSTAMP:20260423T091510
CREATED:20250718T151502Z
LAST-MODIFIED:20251028T221046Z
UID:10001263-1776969000-1776976200@www.kanedems.org
SUMMARY:Pingree Grove / Gilberts Democrats Meeting
DESCRIPTION:We meet monthly at the following \nPingree Grove Municipal Building\n555 Reinking Rd\nPingree Grove\, IL 60140 \n4th Thursday of the month \n6:30-8:30 pm \nIf you reside in Pingree Grove or Gilberts we would love to meet you and welcome you to our group. Our goal is to make a difference in PG and Gilberts. We need like minded democrats to accomplish this. \nThe Rutland Township has two meetings per month. Our other meeting is in Huntley\, under the name Huntley Area Dems. We meet on the 4th Wednesday from 1-3pm in the IBEW Union Hall\, 13300 Rt 47\, Huntley \nReach out to us at:  pggdems@gmail.com
URL:https://www.kanedems.org/event/pingree-grove-gilberts-democrats-meeting-2/2026-04-23/
LOCATION:Pingree Grove Municipal Building\, 555 Reinking Rd\, Pingree Grove\, IL\, 60140\, United States
CATEGORIES:Township Meeting
END:VEVENT
END:VCALENDAR